BEGIN:VCALENDAR
VERSION:2.0
PRODID:-//Wentworth Parish Council//Meeting Calendar//EN
CALSCALE:GREGORIAN
METHOD:PUBLISH
BEGIN:VEVENT
UID:70738-20260615@wentworthparishcouncil.gov.uk
DTSTAMP:20260424T205537Z
DTSTART;VALUE=DATE:20260615
DTEND;VALUE=DATE:20260616
SUMMARY:Council Meeting 15th June 2026
DESCRIPTION:Full Council Meeting\nView details: https://wentworthparishcouncil.gov.uk/meetings/council-meeting-15th-june-2026/
URL:https://wentworthparishcouncil.gov.uk/meetings/council-meeting-15th-june-2026/
END:VEVENT
END:VCALENDAR
