BEGIN:VCALENDAR
VERSION:2.0
PRODID:-//Wentworth Parish Council//Meeting Calendar//EN
CALSCALE:GREGORIAN
METHOD:PUBLISH
BEGIN:VEVENT
UID:70736-20260430@wentworthparishcouncil.gov.uk
DTSTAMP:20260424T185843Z
DTSTART;VALUE=DATE:20260430
DTEND;VALUE=DATE:20260501
SUMMARY:Annual Assembly Meeting 30th April 2026
DESCRIPTION:Annual Parish Meeting\nView details: https://wentworthparishcouncil.gov.uk/meetings/assembly-meeting-april-2026/
URL:https://wentworthparishcouncil.gov.uk/meetings/assembly-meeting-april-2026/
END:VEVENT
END:VCALENDAR
