BEGIN:VCALENDAR
VERSION:2.0
PRODID:-//Wentworth Parish Council//Meeting Calendar//EN
CALSCALE:GREGORIAN
METHOD:PUBLISH
BEGIN:VEVENT
UID:70532-20220328@wentworthparishcouncil.gov.uk
DTSTAMP:20260425T005942Z
DTSTART;VALUE=DATE:20220328
DTEND;VALUE=DATE:20220329
SUMMARY:Annual Assembly &#8211\\; 28 March 2022
DESCRIPTION:Annual Parish Meeting\nView details: https://wentworthparishcouncil.gov.uk/meetings/annual-assembly-28-march-2022/
URL:https://wentworthparishcouncil.gov.uk/meetings/annual-assembly-28-march-2022/
END:VEVENT
END:VCALENDAR
