BEGIN:VCALENDAR
VERSION:2.0
PRODID:-//Wentworth Parish Council//Meeting Calendar//EN
CALSCALE:GREGORIAN
METHOD:PUBLISH
BEGIN:VEVENT
UID:70530-20230327@wentworthparishcouncil.gov.uk
DTSTAMP:20260424T225455Z
DTSTART;VALUE=DATE:20230327
DTEND;VALUE=DATE:20230328
SUMMARY:Annual Assembly &#8211\\; 27 March 2023
DESCRIPTION:Annual Parish Meeting\nView details: https://wentworthparishcouncil.gov.uk/meetings/annual-assembly-27-march-2023/
URL:https://wentworthparishcouncil.gov.uk/meetings/annual-assembly-27-march-2023/
END:VEVENT
END:VCALENDAR
