BEGIN:VCALENDAR
VERSION:2.0
PRODID:-//Wentworth Parish Council//Meeting Calendar//EN
CALSCALE:GREGORIAN
METHOD:PUBLISH
BEGIN:VEVENT
UID:70528-20240318@wentworthparishcouncil.gov.uk
DTSTAMP:20260424T205112Z
DTSTART;VALUE=DATE:20240318
DTEND;VALUE=DATE:20240319
SUMMARY:Annual Assembly &#8211\\; 18 March 2024
DESCRIPTION:Annual Parish Meeting\nView details: https://wentworthparishcouncil.gov.uk/meetings/annual-assembly-18-march-2024/
URL:https://wentworthparishcouncil.gov.uk/meetings/annual-assembly-18-march-2024/
END:VEVENT
END:VCALENDAR
